BEGIN:VCALENDAR
VERSION:2.0
PRODID:itakvim.com
METHOD:PUBLISH
UID:262acfc9-1ae1-4466-4fd8-08de9f183112
X-WR-CALNAME:ÜÇ AYLARIN BAŞLANGICI
X-ITAKVIM-LANGUAGE:tr
X-ITAKVIM-REGION:TR
CALSCALE:GREGORIAN
BEGIN:VEVENT
UID:262acfc9-1ae1-4466-4fd8-08de9f183112
DTSTAMP:20260420T200611Z
DTSTART:20261209T210000Z
DTEND:20261209T210000Z
TRANSP:TRANSPARENT
STATUS:CONFIRMED
SUMMARY:ÜÇ AYLARIN BAŞLANGICI
END:VEVENT
END:VCALENDAR
