BEGIN:VCALENDAR
VERSION:2.0
PRODID:itakvim.com
METHOD:PUBLISH
UID:265d76a7-459e-4adc-5295-08de9f183112
X-WR-CALNAME:Sıgn İstanbul 27. Uluslararası Endüstriyel Reklam Ve Dijital Baskı Teknolojileri Fuarı
X-ITAKVIM-LANGUAGE:tr
X-ITAKVIM-REGION:TR
CALSCALE:GREGORIAN
BEGIN:VEVENT
UID:265d76a7-459e-4adc-5295-08de9f183112
DTSTAMP:20260420T200816Z
DTSTART:20260923T060000Z
DTEND:20260926T150000Z
TRANSP:TRANSPARENT
STATUS:CONFIRMED
SUMMARY:Sıgn İstanbul 27. Uluslararası Endüstriyel Reklam Ve Dijital Baskı Teknolojileri Fuarı
DESCRIPTION:Informa Fuarcılık Anonim Şirketi tarafından düzenlenen baskı, reklamcılık, bayilik, promosyon, tasarım konulu fuarda görüşmek üzere: 

Web:www.signistanbul.com
E-Posta: aynur.turan@informa.com
LOCATION:İstanbul Fuar Merkezi
END:VEVENT
END:VCALENDAR
