BEGIN:VCALENDAR
VERSION:2.0
PRODID:itakvim.com
METHOD:PUBLISH
UID:266e3265-d0f3-4cf6-50fc-08de9f183112
X-WR-CALNAME:Belçika Grand Prix'si Sıralama turları
X-ITAKVIM-LANGUAGE:tr
X-ITAKVIM-REGION:TR
CALSCALE:GREGORIAN
BEGIN:VEVENT
UID:266e3265-d0f3-4cf6-50fc-08de9f183112
DTSTAMP:20260420T200718Z
DTSTART:20260718T140000Z
DTEND:20260718T140000Z
TRANSP:TRANSPARENT
STATUS:CONFIRMED
SUMMARY:Belçika Grand Prix'si Sıralama turları
END:VEVENT
END:VCALENDAR
