BEGIN:VCALENDAR
VERSION:2.0
PRODID:itakvim.com
METHOD:PUBLISH
UID:2829decc-1f54-4390-5291-08de9f183112
X-WR-CALNAME:Ibıa Expo - 5. Uluslararası Yatak Yan Sanayi Ve Teknolojileri Fuarı
X-ITAKVIM-LANGUAGE:tr
X-ITAKVIM-REGION:TR
CALSCALE:GREGORIAN
BEGIN:VEVENT
UID:2829decc-1f54-4390-5291-08de9f183112
DTSTAMP:20260420T200816Z
DTSTART:20260916T060000Z
DTEND:20260919T150000Z
TRANSP:TRANSPARENT
STATUS:CONFIRMED
SUMMARY:Ibıa Expo - 5. Uluslararası Yatak Yan Sanayi Ve Teknolojileri Fuarı
DESCRIPTION:Birleşik Fuar Yapım Anonim Şirketi tarafından düzenlenen yatak yan sanayi ve teknolojileri konulu fuarda görüşmek üzere: 

Web:www.bifasfuar.com
E-Posta: info@bifasfuar.com
LOCATION:İstanbul Fuar Merkezi
END:VEVENT
END:VCALENDAR
