BEGIN:VCALENDAR
VERSION:2.0
PRODID:itakvim.com
METHOD:PUBLISH
UID:28647fd3-6e2c-4981-ccad-08de9d98d356
X-WR-CALNAME:İtfaiyecinin Sırrı
X-ITAKVIM-LANGUAGE:tr
X-ITAKVIM-REGION:TR
CALSCALE:GREGORIAN
BEGIN:VEVENT
UID:28647fd3-6e2c-4981-ccad-08de9d98d356
DTSTAMP:20260418T222121Z
DTSTART:20260423T100000Z
DTEND:20260423T100000Z
TRANSP:TRANSPARENT
STATUS:CONFIRMED
SUMMARY:İtfaiyecinin Sırrı
LOCATION:Ümraniye Sahnesi
END:VEVENT
END:VCALENDAR
