BEGIN:VCALENDAR
VERSION:2.0
PRODID:itakvim.com
METHOD:PUBLISH
UID:295d8e4b-e37a-44ac-5a90-08de9f8ee600
X-WR-CALNAME:Cadı Kazanı
X-ITAKVIM-LANGUAGE:tr
X-ITAKVIM-REGION:TR
CALSCALE:GREGORIAN
BEGIN:VEVENT
UID:295d8e4b-e37a-44ac-5a90-08de9f8ee600
DTSTAMP:20260421T101704Z
DTSTART:20260502T120000Z
DTEND:20260502T120000Z
TRANSP:TRANSPARENT
STATUS:CONFIRMED
SUMMARY:Cadı Kazanı
LOCATION:Üsküdar Musahipzade Celal Sahnesi
END:VEVENT
END:VCALENDAR
