BEGIN:VCALENDAR
VERSION:2.0
PRODID:itakvim.com
METHOD:PUBLISH
UID:2c8c91ed-4e11-4cd3-51c5-08de9f183112
X-WR-CALNAME:Kapatılacak Derslerin Tespiti ve İlanı
X-ITAKVIM-LANGUAGE:tr
X-ITAKVIM-REGION:TR
CALSCALE:GREGORIAN
BEGIN:VEVENT
UID:2c8c91ed-4e11-4cd3-51c5-08de9f183112
DTSTAMP:20260420T200724Z
DTSTART:20260625T210000Z
DTEND:20260625T210000Z
TRANSP:TRANSPARENT
STATUS:CONFIRMED
SUMMARY:Kapatılacak Derslerin Tespiti ve İlanı
END:VEVENT
END:VCALENDAR
