BEGIN:VCALENDAR
VERSION:2.0
PRODID:itakvim.com
METHOD:PUBLISH
UID:2d18490f-9cdf-4f3b-52b6-08de9f183112
X-WR-CALNAME:Vef Yurt Dışı Eğitim Fuarı
X-ITAKVIM-LANGUAGE:tr
X-ITAKVIM-REGION:TR
CALSCALE:GREGORIAN
BEGIN:VEVENT
UID:2d18490f-9cdf-4f3b-52b6-08de9f183112
DTSTAMP:20260420T200816Z
DTSTART:20261012T060000Z
DTEND:20261012T150000Z
TRANSP:TRANSPARENT
STATUS:CONFIRMED
SUMMARY:Vef Yurt Dışı Eğitim Fuarı
DESCRIPTION:Endless Grup Eğitim Bilişim Anonim Şirketi tarafından düzenlenen yurt dışı eğitim danışmanlığı konulu fuarda görüşmek üzere: 

Web:www.endlessg.com
E-Posta: firat.incesu@endlessg.com
LOCATION:Ege Palas Business Hotel
END:VEVENT
END:VCALENDAR
