BEGIN:VCALENDAR
VERSION:2.0
PRODID:itakvim.com
METHOD:PUBLISH
UID:2f3dcf9c-d216-4cef-510a-08de9f183112
X-WR-CALNAME:İtalya Grand Prix'si Üçüncü antrenman
X-ITAKVIM-LANGUAGE:tr
X-ITAKVIM-REGION:TR
CALSCALE:GREGORIAN
BEGIN:VEVENT
UID:2f3dcf9c-d216-4cef-510a-08de9f183112
DTSTAMP:20260420T200718Z
DTSTART:20260905T103000Z
DTEND:20260905T103000Z
TRANSP:TRANSPARENT
STATUS:CONFIRMED
SUMMARY:İtalya Grand Prix'si Üçüncü antrenman
END:VEVENT
END:VCALENDAR
