BEGIN:VCALENDAR
VERSION:2.0
PRODID:itakvim.com
METHOD:PUBLISH
UID:2f6109cf-ea93-45ed-526e-08de9f183112
X-WR-CALNAME:Uluslararası Antalya Turizm Fuarı
X-ITAKVIM-LANGUAGE:tr
X-ITAKVIM-REGION:TR
CALSCALE:GREGORIAN
BEGIN:VEVENT
UID:2f6109cf-ea93-45ed-526e-08de9f183112
DTSTAMP:20260420T200816Z
DTSTART:20261026T060000Z
DTEND:20261028T150000Z
TRANSP:TRANSPARENT
STATUS:CONFIRMED
SUMMARY:Uluslararası Antalya Turizm Fuarı
DESCRIPTION:Gmt Fuarcılık Limited Şirketi tarafından düzenlenen turizm,seyahat,ticaret konulu fuarda görüşmek üzere: 

Web:antalyaturizmfuari.com
E-Posta: selcukmeral@gm-center.com
LOCATION:Anfaş Antalya Fuar Ve Kongre Merkezi
END:VEVENT
END:VCALENDAR
