BEGIN:VCALENDAR
VERSION:2.0
PRODID:itakvim.com
METHOD:PUBLISH
UID:3054ca4c-ddc3-4d07-50ed-08de9f183112
X-WR-CALNAME:All.races.barcelona-catalunya-grand-prix Sıralama turları
X-ITAKVIM-LANGUAGE:tr
X-ITAKVIM-REGION:TR
CALSCALE:GREGORIAN
BEGIN:VEVENT
UID:3054ca4c-ddc3-4d07-50ed-08de9f183112
DTSTAMP:20260420T200718Z
DTSTART:20260613T140000Z
DTEND:20260613T140000Z
TRANSP:TRANSPARENT
STATUS:CONFIRMED
SUMMARY:All.races.barcelona-catalunya-grand-prix Sıralama turları
END:VEVENT
END:VCALENDAR
