BEGIN:VCALENDAR
VERSION:2.0
PRODID:itakvim.com
METHOD:PUBLISH
UID:30bae21d-b99c-479e-5100-08de9f183112
X-WR-CALNAME:Macaristan Grand Prix'si Üçüncü antrenman
X-ITAKVIM-LANGUAGE:tr
X-ITAKVIM-REGION:TR
CALSCALE:GREGORIAN
BEGIN:VEVENT
UID:30bae21d-b99c-479e-5100-08de9f183112
DTSTAMP:20260420T200718Z
DTSTART:20260725T103000Z
DTEND:20260725T103000Z
TRANSP:TRANSPARENT
STATUS:CONFIRMED
SUMMARY:Macaristan Grand Prix'si Üçüncü antrenman
END:VEVENT
END:VCALENDAR
