BEGIN:VCALENDAR
VERSION:2.0
PRODID:itakvim.com
METHOD:PUBLISH
UID:316a5a1b-d100-4085-4fb9-08de9f183112
X-WR-CALNAME:TUS Tıpta Uzmanlık Eğitimi Giriş Sınavı 2026-TUS 2. Dönem Geç Başvuru Başlangıç
X-ITAKVIM-LANGUAGE:tr
X-ITAKVIM-REGION:TR
CALSCALE:GREGORIAN
BEGIN:VEVENT
UID:316a5a1b-d100-4085-4fb9-08de9f183112
DTSTAMP:20260420T200538Z
DTSTART:20260723T210000Z
DTEND:20260723T210000Z
TRANSP:TRANSPARENT
STATUS:CONFIRMED
SUMMARY:TUS Tıpta Uzmanlık Eğitimi Giriş Sınavı 2026-TUS 2. Dönem Geç Başvuru Başlangıç
END:VEVENT
END:VCALENDAR
