BEGIN:VCALENDAR
VERSION:2.0
PRODID:itakvim.com
METHOD:PUBLISH
UID:31f40b72-9dba-4bdb-d605-08de9fecec0c
X-WR-CALNAME:e-YDS Elektronik Yabancı Dil Sınavı (e-YDS 2026/8 Almanca/Fransızca) *** Başvuru Başlangıç
X-ITAKVIM-LANGUAGE:tr
X-ITAKVIM-REGION:TR
CALSCALE:GREGORIAN
BEGIN:VEVENT
UID:31f40b72-9dba-4bdb-d605-08de9fecec0c
DTSTAMP:20260421T212824Z
DTSTART:20260615T210000Z
DTEND:20260615T210000Z
TRANSP:TRANSPARENT
STATUS:CONFIRMED
SUMMARY:e-YDS Elektronik Yabancı Dil Sınavı (e-YDS 2026/8 Almanca/Fransızca) *** Başvuru Başlangıç
END:VEVENT
END:VCALENDAR
