BEGIN:VCALENDAR
VERSION:2.0
PRODID:itakvim.com
METHOD:PUBLISH
UID:320477bd-9a3f-4873-50e5-08de9f183112
X-WR-CALNAME:Monako Grand Prix'si Birinci antrenman
X-ITAKVIM-LANGUAGE:tr
X-ITAKVIM-REGION:TR
CALSCALE:GREGORIAN
BEGIN:VEVENT
UID:320477bd-9a3f-4873-50e5-08de9f183112
DTSTAMP:20260420T200718Z
DTSTART:20260605T113000Z
DTEND:20260605T113000Z
TRANSP:TRANSPARENT
STATUS:CONFIRMED
SUMMARY:Monako Grand Prix'si Birinci antrenman
END:VEVENT
END:VCALENDAR
