BEGIN:VCALENDAR
VERSION:2.0
PRODID:itakvim.com
METHOD:PUBLISH
UID:321dabc5-a19b-4b65-cca2-08de9d98d356
X-WR-CALNAME:Sen İstanbul'dan Daha Güzelsin
X-ITAKVIM-LANGUAGE:tr
X-ITAKVIM-REGION:TR
CALSCALE:GREGORIAN
BEGIN:VEVENT
UID:321dabc5-a19b-4b65-cca2-08de9d98d356
DTSTAMP:20260418T222122Z
DTSTART:20260422T120000Z
DTEND:20260422T120000Z
TRANSP:TRANSPARENT
STATUS:CONFIRMED
SUMMARY:Sen İstanbul'dan Daha Güzelsin
LOCATION:Harbiye Muhsin Ertuğrul Sahnesi
END:VEVENT
END:VCALENDAR
