BEGIN:VCALENDAR
VERSION:2.0
PRODID:itakvim.com
METHOD:PUBLISH
UID:332d79e7-c012-48ce-4ec1-08de9f183112
X-WR-CALNAME:YKS Yükseköğretim Kurumları Sınavı 2026-YKS 1. Oturum (TYT) Sınav
X-ITAKVIM-LANGUAGE:tr
X-ITAKVIM-REGION:TR
CALSCALE:GREGORIAN
BEGIN:VEVENT
UID:332d79e7-c012-48ce-4ec1-08de9f183112
DTSTAMP:20260420T200538Z
DTSTART:20260620T071500Z
DTEND:20260620T071500Z
TRANSP:TRANSPARENT
STATUS:CONFIRMED
SUMMARY:YKS Yükseköğretim Kurumları Sınavı 2026-YKS 1. Oturum (TYT) Sınav
END:VEVENT
END:VCALENDAR
