BEGIN:VCALENDAR
VERSION:2.0
PRODID:itakvim.com
METHOD:PUBLISH
UID:33ad0e62-14d2-440f-52e3-08de9f183112
X-WR-CALNAME:5. Doğada Yaşam- Trakya Kamp, Karavan, Doğa Sporları, Avcılık, Atıcılık, Balıkçılık, Alternatif Turizm, Arazi Araçları, Spor Ve Outdoor Giyim Ve Aksesuarları Fuarı
X-ITAKVIM-LANGUAGE:tr
X-ITAKVIM-REGION:TR
CALSCALE:GREGORIAN
BEGIN:VEVENT
UID:33ad0e62-14d2-440f-52e3-08de9f183112
DTSTAMP:20260420T200816Z
DTSTART:20260519T060000Z
DTEND:20260524T150000Z
TRANSP:TRANSPARENT
STATUS:CONFIRMED
SUMMARY:5. Doğada Yaşam- Trakya Kamp, Karavan, Doğa Sporları, Avcılık, Atıcılık, Balıkçılık, Alternatif Turizm, Arazi Araçları, Spor Ve Outdoor Giyim Ve Aksesuarları Fuarı
DESCRIPTION:Renkli Fuarcılık Ltd. Şti. tarafından düzenlenen kamp, karavan, doğa sporları, avcılık, atıcılık, balıkçılık, alternatif turizm, arazi araçları, spor ve dış giyim konulu fuarda görüşmek üzere: 

Web:www.renklyfuar.com
E-Posta: info@renklyfuar.com
LOCATION:Çorlu Yeni Fuar Alanı
END:VEVENT
END:VCALENDAR
