BEGIN:VCALENDAR
VERSION:2.0
PRODID:itakvim.com
METHOD:PUBLISH
UID:34269d66-a7e1-4737-59bc-08de9f8ee600
X-WR-CALNAME:İslam Sanatları Fuarı
X-ITAKVIM-LANGUAGE:tr
X-ITAKVIM-REGION:TR
CALSCALE:GREGORIAN
BEGIN:VEVENT
UID:34269d66-a7e1-4737-59bc-08de9f8ee600
DTSTAMP:20260421T101545Z
DTSTART:20260617T060000Z
DTEND:20260621T150000Z
TRANSP:TRANSPARENT
STATUS:CONFIRMED
SUMMARY:İslam Sanatları Fuarı
DESCRIPTION:Likapa Fair Fuarcılık Ticaret A.Ş. tarafından düzenlenen islam sanatları konulu fuarda görüşmek üzere: 

Web:islamsanatlarifuari.com
E-Posta: likapafair@gmail.com
LOCATION:Ato Kongre Ve Sergi Sarayı 'Congresıum'
END:VEVENT
END:VCALENDAR
