BEGIN:VCALENDAR
VERSION:2.0
PRODID:itakvim.com
METHOD:PUBLISH
UID:3550b671-4c52-403e-50ef-08de9f183112
X-WR-CALNAME:Avusturya Grand Prix'si Birinci antrenman
X-ITAKVIM-LANGUAGE:tr
X-ITAKVIM-REGION:TR
CALSCALE:GREGORIAN
BEGIN:VEVENT
UID:3550b671-4c52-403e-50ef-08de9f183112
DTSTAMP:20260420T200718Z
DTSTART:20260626T113000Z
DTEND:20260626T113000Z
TRANSP:TRANSPARENT
STATUS:CONFIRMED
SUMMARY:Avusturya Grand Prix'si Birinci antrenman
END:VEVENT
END:VCALENDAR
