BEGIN:VCALENDAR
VERSION:2.0
PRODID:itakvim.com
METHOD:PUBLISH
UID:355bf5c9-f1be-4e4c-5a48-08de9f8ee600
X-WR-CALNAME:Özel Eğitim Fuarı
X-ITAKVIM-LANGUAGE:tr
X-ITAKVIM-REGION:TR
CALSCALE:GREGORIAN
BEGIN:VEVENT
UID:355bf5c9-f1be-4e4c-5a48-08de9f8ee600
DTSTAMP:20260421T101546Z
DTSTART:20260427T060000Z
DTEND:20260503T150000Z
TRANSP:TRANSPARENT
STATUS:CONFIRMED
SUMMARY:Özel Eğitim Fuarı
DESCRIPTION:Bizim Prodüksiyon Limited Şirketi tarafından düzenlenen kurumlar , teknolojileri , kırtasiye , meteryallari ,kurslar konulu fuarda görüşmek üzere: 

Web:bizimfuarcilik.com
E-Posta: bizimfuarcilik@gmail.com
LOCATION:Denizli Egs Kongre Ve Kültür Merkezi Fuar Alanı
END:VEVENT
END:VCALENDAR
