BEGIN:VCALENDAR
VERSION:2.0
PRODID:itakvim.com
METHOD:PUBLISH
UID:36401d2b-56f9-4db3-d2da-08de9f271cd7
X-WR-CALNAME:Ocak-Şubat-Mart 2026 Dönemi Geri Kazanım Katılım Payı Beyan ve Ödemesi Son Gün
X-ITAKVIM-LANGUAGE:tr
X-ITAKVIM-REGION:TR
CALSCALE:GREGORIAN
BEGIN:VEVENT
UID:36401d2b-56f9-4db3-d2da-08de9f271cd7
DTSTAMP:20260420T215235Z
DTSTART:20260430T140000Z
DTEND:20260430T140000Z
TRANSP:TRANSPARENT
STATUS:CONFIRMED
SUMMARY:Ocak-Şubat-Mart 2026 Dönemi Geri Kazanım Katılım Payı Beyan ve Ödemesi Son Gün
DESCRIPTION:Ocak-Şubat-Mart 2026 Dönemine Ait Geri Kazanım Katılım Payı Beyannamesinin Verilmesi ve Ödemesi
END:VEVENT
END:VCALENDAR
