BEGIN:VCALENDAR
VERSION:2.0
PRODID:itakvim.com
METHOD:PUBLISH
UID:3682fdec-dd90-47ad-4f21-08de9f183112
X-WR-CALNAME:TR-YÖS Türkiye Yurt Dışından Öğrenci Kabul Sınavı 2026-TR-YÖS/2 Başvuru Bitiş
X-ITAKVIM-LANGUAGE:tr
X-ITAKVIM-REGION:TR
CALSCALE:GREGORIAN
BEGIN:VEVENT
UID:3682fdec-dd90-47ad-4f21-08de9f183112
DTSTAMP:20260420T200538Z
DTSTART:20260802T210000Z
DTEND:20260802T210000Z
TRANSP:TRANSPARENT
STATUS:CONFIRMED
SUMMARY:TR-YÖS Türkiye Yurt Dışından Öğrenci Kabul Sınavı 2026-TR-YÖS/2 Başvuru Bitiş
END:VEVENT
END:VCALENDAR
