BEGIN:VCALENDAR
VERSION:2.0
PRODID:itakvim.com
METHOD:PUBLISH
UID:375244de-4fff-4d5b-4f5b-08de9f183112
X-WR-CALNAME:STS Eczacılık Eczacılık Alanında Yurt Dışı Yükseköğretim Diploma Denkliği İçin Seviye Tespit Sınavı 2026-STS Eczacılık Geç Başvuru Başlangıç
X-ITAKVIM-LANGUAGE:tr
X-ITAKVIM-REGION:TR
CALSCALE:GREGORIAN
BEGIN:VEVENT
UID:375244de-4fff-4d5b-4f5b-08de9f183112
DTSTAMP:20260420T200538Z
DTSTART:20261007T210000Z
DTEND:20261007T210000Z
TRANSP:TRANSPARENT
STATUS:CONFIRMED
SUMMARY:STS Eczacılık Eczacılık Alanında Yurt Dışı Yükseköğretim Diploma Denkliği İçin Seviye Tespit Sınavı 2026-STS Eczacılık Geç Başvuru Başlangıç
END:VEVENT
END:VCALENDAR
