BEGIN:VCALENDAR
VERSION:2.0
PRODID:itakvim.com
METHOD:PUBLISH
UID:38294e2b-2979-4e93-5301-08de9f183112
X-WR-CALNAME:Tyba Yacht Charter Show
X-ITAKVIM-LANGUAGE:tr
X-ITAKVIM-REGION:TR
CALSCALE:GREGORIAN
BEGIN:VEVENT
UID:38294e2b-2979-4e93-5301-08de9f183112
DTSTAMP:20260420T200816Z
DTSTART:20260507T060000Z
DTEND:20260511T150000Z
TRANSP:TRANSPARENT
STATUS:CONFIRMED
SUMMARY:Tyba Yacht Charter Show
DESCRIPTION:Ed Fuarcılık Ve Organizasyon Ltd. Şti. tarafından düzenlenen motor yat, yelkenliler, marin ekipman ve aksesuarları konulu fuarda görüşmek üzere: 

Web:www.tybachartershow.com
E-Posta: emelyilmaz@edfuar.com
LOCATION:Muttaş Marmaris Limanı
END:VEVENT
END:VCALENDAR
