BEGIN:VCALENDAR
VERSION:2.0
PRODID:itakvim.com
METHOD:PUBLISH
UID:38b63a30-7c91-40f3-5a4f-08de9f8ee600
X-WR-CALNAME:Ceviz Türkiye Fuarı-3.Çorum Ceviz Yetiştiriciliği Teknolojileri Tarım Alet Ekipmanları Ve Pazarlaması Fuarı
X-ITAKVIM-LANGUAGE:tr
X-ITAKVIM-REGION:TR
CALSCALE:GREGORIAN
BEGIN:VEVENT
UID:38b63a30-7c91-40f3-5a4f-08de9f8ee600
DTSTAMP:20260421T101546Z
DTSTART:20261022T060000Z
DTEND:20261025T150000Z
TRANSP:TRANSPARENT
STATUS:CONFIRMED
SUMMARY:Ceviz Türkiye Fuarı-3.Çorum Ceviz Yetiştiriciliği Teknolojileri Tarım Alet Ekipmanları Ve Pazarlaması Fuarı
DESCRIPTION:Elka Fuarcılık Limited Şirketi tarafından düzenlenen ceviz yetiştiriciliği teknolojileri tarım alet ekipmanları ve pazarlaması konulu fuarda görüşmek üzere: 

Web:www.elkafuar.com
E-Posta: bilgi@elkafuar.com
LOCATION:Çorum Tso Fuar Merkezi
END:VEVENT
END:VCALENDAR
