BEGIN:VCALENDAR
VERSION:2.0
PRODID:itakvim.com
METHOD:PUBLISH
UID:39077a05-b8d3-44e3-51c6-08de9f183112
X-WR-CALNAME:Yaz Öğretimi Başlangıcı
X-ITAKVIM-LANGUAGE:tr
X-ITAKVIM-REGION:TR
CALSCALE:GREGORIAN
BEGIN:VEVENT
UID:39077a05-b8d3-44e3-51c6-08de9f183112
DTSTAMP:20260420T200724Z
DTSTART:20260628T210000Z
DTEND:20260628T210000Z
TRANSP:TRANSPARENT
STATUS:CONFIRMED
SUMMARY:Yaz Öğretimi Başlangıcı
END:VEVENT
END:VCALENDAR
