BEGIN:VCALENDAR
VERSION:2.0
PRODID:itakvim.com
METHOD:PUBLISH
UID:39dd038f-3866-4834-525a-08de9f183112
X-WR-CALNAME:Denizli Kitap Fuarı
X-ITAKVIM-LANGUAGE:tr
X-ITAKVIM-REGION:TR
CALSCALE:GREGORIAN
BEGIN:VEVENT
UID:39dd038f-3866-4834-525a-08de9f183112
DTSTAMP:20260420T200817Z
DTSTART:20261017T060000Z
DTEND:20261025T150000Z
TRANSP:TRANSPARENT
STATUS:CONFIRMED
SUMMARY:Denizli Kitap Fuarı
DESCRIPTION:Tüyap Tüm Fuarcılık Yapım Anonim Şirketi tarafından düzenlenen kitap, süreli yayın konulu fuarda görüşmek üzere: 

Web:www.tuyap.com.tr
E-Posta: tuyap@tuyap.com.tr
LOCATION:Egs Fuar Alanı
END:VEVENT
END:VCALENDAR
