BEGIN:VCALENDAR
VERSION:2.0
PRODID:itakvim.com
METHOD:PUBLISH
UID:3a5278d0-8781-4faa-4ee3-08de9f183112
X-WR-CALNAME:EUS Eczacılıkta Uzmanlık Eğitimi Giriş Sınavı 2026-EUS Geç Başvuru Bitiş
X-ITAKVIM-LANGUAGE:tr
X-ITAKVIM-REGION:TR
CALSCALE:GREGORIAN
BEGIN:VEVENT
UID:3a5278d0-8781-4faa-4ee3-08de9f183112
DTSTAMP:20260420T200538Z
DTSTART:20261008T205900Z
DTEND:20261008T205900Z
TRANSP:TRANSPARENT
STATUS:CONFIRMED
SUMMARY:EUS Eczacılıkta Uzmanlık Eğitimi Giriş Sınavı 2026-EUS Geç Başvuru Bitiş
END:VEVENT
END:VCALENDAR
