BEGIN:VCALENDAR
VERSION:2.0
PRODID:itakvim.com
METHOD:PUBLISH
UID:3b040110-e392-4e2d-4ee1-08de9f183112
X-WR-CALNAME:EUS Eczacılıkta Uzmanlık Eğitimi Giriş Sınavı 2026-EUS Başvuru Bitiş
X-ITAKVIM-LANGUAGE:tr
X-ITAKVIM-REGION:TR
CALSCALE:GREGORIAN
BEGIN:VEVENT
UID:3b040110-e392-4e2d-4ee1-08de9f183112
DTSTAMP:20260420T200538Z
DTSTART:20260930T210000Z
DTEND:20260930T210000Z
TRANSP:TRANSPARENT
STATUS:CONFIRMED
SUMMARY:EUS Eczacılıkta Uzmanlık Eğitimi Giriş Sınavı 2026-EUS Başvuru Bitiş
END:VEVENT
END:VCALENDAR
