BEGIN:VCALENDAR
VERSION:2.0
PRODID:itakvim.com
METHOD:PUBLISH
UID:3c55df19-d5e5-4f8e-cc7e-08de9d98d356
X-WR-CALNAME:Haramiler
X-ITAKVIM-LANGUAGE:tr
X-ITAKVIM-REGION:TR
CALSCALE:GREGORIAN
BEGIN:VEVENT
UID:3c55df19-d5e5-4f8e-cc7e-08de9d98d356
DTSTAMP:20260418T222121Z
DTSTART:20260502T170000Z
DTEND:20260502T170000Z
TRANSP:TRANSPARENT
STATUS:CONFIRMED
SUMMARY:Haramiler
LOCATION:Kağıthane Sadabad Sahnesi
END:VEVENT
END:VCALENDAR
