BEGIN:VCALENDAR
VERSION:2.0
PRODID:itakvim.com
METHOD:PUBLISH
UID:3df09696-7c32-4132-4f71-08de9f183112
X-WR-CALNAME:STS Öğretmenlik Öğretmenlik Meslek Bilgisi Alanında Yurt Dışı Yükseköğretim Diploma Denkliği İçin Seviye Tespit Sınavı 2026-STS Öğretmenlik Geç Başvuru Başlangıç
X-ITAKVIM-LANGUAGE:tr
X-ITAKVIM-REGION:TR
CALSCALE:GREGORIAN
BEGIN:VEVENT
UID:3df09696-7c32-4132-4f71-08de9f183112
DTSTAMP:20260420T200538Z
DTSTART:20260512T210000Z
DTEND:20260512T210000Z
TRANSP:TRANSPARENT
STATUS:CONFIRMED
SUMMARY:STS Öğretmenlik Öğretmenlik Meslek Bilgisi Alanında Yurt Dışı Yükseköğretim Diploma Denkliği İçin Seviye Tespit Sınavı 2026-STS Öğretmenlik Geç Başvuru Başlangıç
END:VEVENT
END:VCALENDAR
