BEGIN:VCALENDAR
VERSION:2.0
PRODID:itakvim.com
METHOD:PUBLISH
UID:3e13b0ad-c2d6-4e5e-725e-08dea0b24f2e
X-WR-CALNAME:Ocak-Şubat-Mart 2026 Dönemi Üçer Aylık Tevkifatların Beyan ve Ödemesi Son Gün
X-ITAKVIM-LANGUAGE:tr
X-ITAKVIM-REGION:TR
CALSCALE:GREGORIAN
BEGIN:VEVENT
UID:3e13b0ad-c2d6-4e5e-725e-08dea0b24f2e
DTSTAMP:20260422T210149Z
DTSTART:20260427T140000Z
DTEND:20260427T140000Z
TRANSP:TRANSPARENT
STATUS:CONFIRMED
SUMMARY:Ocak-Şubat-Mart 2026 Dönemi Üçer Aylık Tevkifatların Beyan ve Ödemesi Son Gün
DESCRIPTION:Ocak-Şubat-Mart 2026 Dönemine Ait GVK Geçici 67. Madde Kapsamında Yapılan Tevkifatların Beyanı ve Ödemesi
END:VEVENT
END:VCALENDAR
