BEGIN:VCALENDAR
VERSION:2.0
PRODID:itakvim.com
METHOD:PUBLISH
UID:3ecbae1f-9b68-4083-4edf-08de9f183112
X-WR-CALNAME:EUS Eczacılıkta Uzmanlık Eğitimi Giriş Sınavı 2026-EUS Sınav
X-ITAKVIM-LANGUAGE:tr
X-ITAKVIM-REGION:TR
CALSCALE:GREGORIAN
BEGIN:VEVENT
UID:3ecbae1f-9b68-4083-4edf-08de9f183112
DTSTAMP:20260420T200538Z
DTSTART:20261106T210000Z
DTEND:20261106T210000Z
TRANSP:TRANSPARENT
STATUS:CONFIRMED
SUMMARY:EUS Eczacılıkta Uzmanlık Eğitimi Giriş Sınavı 2026-EUS Sınav
END:VEVENT
END:VCALENDAR
