BEGIN:VCALENDAR
VERSION:2.0
PRODID:itakvim.com
METHOD:PUBLISH
UID:3f3f920a-e495-4cd1-534f-08de9f183112
X-WR-CALNAME:Ttı İzmir  "20. Uluslararası Turizm Ticaret  Fuar Ve Kongresi"
X-ITAKVIM-LANGUAGE:tr
X-ITAKVIM-REGION:TR
CALSCALE:GREGORIAN
BEGIN:VEVENT
UID:3f3f920a-e495-4cd1-534f-08de9f183112
DTSTAMP:20260420T200816Z
DTSTART:20261202T060000Z
DTEND:20261204T150000Z
TRANSP:TRANSPARENT
STATUS:CONFIRMED
SUMMARY:Ttı İzmir  "20. Uluslararası Turizm Ticaret  Fuar Ve Kongresi"
DESCRIPTION:1) İzfaş İzmir Fuarcılık Hizmetleri Kültür Ve Sanat İşleri Ticaret Anonim Şirketi 2) Türsab Fuarcılık Hizmetleri Ticaret A.Ş. tarafından düzenlenen turizm ticaret fuar ve kongresi konulu fuarda görüşmek üzere: 

Web:www.izmirfair.com.tr
E-Posta: muhasebe@izmirfair.com.tr
LOCATION:Fuarizmir - Yeni Fuar Alanı
END:VEVENT
END:VCALENDAR
