BEGIN:VCALENDAR
VERSION:2.0
PRODID:itakvim.com
METHOD:PUBLISH
UID:4027ddcd-13d8-4eec-528d-08de9f183112
X-WR-CALNAME:Yaş Sebze Meyve, Depolama, Lojistik, Su Ürünleri, Teknolojileri  Ve Balıkçılık Fuarı
X-ITAKVIM-LANGUAGE:tr
X-ITAKVIM-REGION:TR
CALSCALE:GREGORIAN
BEGIN:VEVENT
UID:4027ddcd-13d8-4eec-528d-08de9f183112
DTSTAMP:20260420T200816Z
DTSTART:20260901T060000Z
DTEND:20260904T150000Z
TRANSP:TRANSPARENT
STATUS:CONFIRMED
SUMMARY:Yaş Sebze Meyve, Depolama, Lojistik, Su Ürünleri, Teknolojileri  Ve Balıkçılık Fuarı
DESCRIPTION:Tüyap Tüm Fuarcılık Yapım A.Ş tarafından düzenlenen yaş sebze meyve,  su ürünleri balıkçılık, depolama, lojistik konulu fuarda görüşmek üzere: 

Web:www.tuyap.com.tr
E-Posta: tuyap@tuyap.com.tr
LOCATION:İstanbul Fuar Merkezi
END:VEVENT
END:VCALENDAR
