BEGIN:VCALENDAR
VERSION:2.0
PRODID:itakvim.com
METHOD:PUBLISH
UID:40b47480-9a20-460b-4ebf-08de9f183112
X-WR-CALNAME:HMGS Hukuk Mesleklerine Giriş Sınavı 2026-HMGS/2 Geç Başvuru Bitiş
X-ITAKVIM-LANGUAGE:tr
X-ITAKVIM-REGION:TR
CALSCALE:GREGORIAN
BEGIN:VEVENT
UID:40b47480-9a20-460b-4ebf-08de9f183112
DTSTAMP:20260420T200538Z
DTSTART:20260826T205900Z
DTEND:20260826T205900Z
TRANSP:TRANSPARENT
STATUS:CONFIRMED
SUMMARY:HMGS Hukuk Mesleklerine Giriş Sınavı 2026-HMGS/2 Geç Başvuru Bitiş
END:VEVENT
END:VCALENDAR
