BEGIN:VCALENDAR
VERSION:2.0
PRODID:itakvim.com
METHOD:PUBLISH
UID:41702225-3a78-4b5e-5104-08de9f183112
X-WR-CALNAME:Hollanda Grand Prix'si Kısa Sıralama
X-ITAKVIM-LANGUAGE:tr
X-ITAKVIM-REGION:TR
CALSCALE:GREGORIAN
BEGIN:VEVENT
UID:41702225-3a78-4b5e-5104-08de9f183112
DTSTAMP:20260420T200718Z
DTSTART:20260821T143000Z
DTEND:20260821T143000Z
TRANSP:TRANSPARENT
STATUS:CONFIRMED
SUMMARY:Hollanda Grand Prix'si Kısa Sıralama
END:VEVENT
END:VCALENDAR
