BEGIN:VCALENDAR
VERSION:2.0
PRODID:itakvim.com
METHOD:PUBLISH
UID:41bcf826-8055-443c-d2c8-08de9f271cd7
X-WR-CALNAME:1-15 Nisan 2026 Dönemi Özel Tüketim Vergisi Beyan ve Ödemesi Son Gün
X-ITAKVIM-LANGUAGE:tr
X-ITAKVIM-REGION:TR
CALSCALE:GREGORIAN
BEGIN:VEVENT
UID:41bcf826-8055-443c-d2c8-08de9f271cd7
DTSTAMP:20260420T215235Z
DTSTART:20260427T140000Z
DTEND:20260427T140000Z
TRANSP:TRANSPARENT
STATUS:CONFIRMED
SUMMARY:1-15 Nisan 2026 Dönemi Özel Tüketim Vergisi Beyan ve Ödemesi Son Gün
DESCRIPTION:1-15 Nisan 2026 Dönemine Ait Petrol ve Doğalgaz Ürünlerine İlişkin Özel Tüketim Vergisinin Beyanı ve Ödemesi
END:VEVENT
END:VCALENDAR
