BEGIN:VCALENDAR
VERSION:2.0
PRODID:itakvim.com
METHOD:PUBLISH
UID:42b8dccd-4b7c-4602-50f2-08de9f183112
X-WR-CALNAME:Avusturya Grand Prix'si Sıralama turları
X-ITAKVIM-LANGUAGE:tr
X-ITAKVIM-REGION:TR
CALSCALE:GREGORIAN
BEGIN:VEVENT
UID:42b8dccd-4b7c-4602-50f2-08de9f183112
DTSTAMP:20260420T200718Z
DTSTART:20260627T140000Z
DTEND:20260627T140000Z
TRANSP:TRANSPARENT
STATUS:CONFIRMED
SUMMARY:Avusturya Grand Prix'si Sıralama turları
END:VEVENT
END:VCALENDAR
