BEGIN:VCALENDAR
VERSION:2.0
PRODID:itakvim.com
METHOD:PUBLISH
UID:430a340b-2226-4219-5355-08de9f183112
X-WR-CALNAME:Maden-Tek 2026, Maden Endüstrisi Teknoloji Günleri
X-ITAKVIM-LANGUAGE:tr
X-ITAKVIM-REGION:TR
CALSCALE:GREGORIAN
BEGIN:VEVENT
UID:430a340b-2226-4219-5355-08de9f183112
DTSTAMP:20260420T200817Z
DTSTART:20261022T060000Z
DTEND:20261024T150000Z
TRANSP:TRANSPARENT
STATUS:CONFIRMED
SUMMARY:Maden-Tek 2026, Maden Endüstrisi Teknoloji Günleri
DESCRIPTION:Mayeb Basın Yayın İnsan Kaynakları Eğitim Danışmanlık İnceleme Araştırma Pazarlama İthalat İhracat Sanayi Ve Ticaret Limited Şirketi tarafından düzenlenen madencilik, maden teknolojileri, teknoloji, akıllı madencilik, jeoloji, jeofizik, yapay zeka konulu fuarda görüşmek üzere: 

Web:www.maden-tek.com
E-Posta: onur@mayeb.com.tr
LOCATION:Hacettepe Beytepe Kongre Merkezi
END:VEVENT
END:VCALENDAR
