BEGIN:VCALENDAR
VERSION:2.0
PRODID:itakvim.com
METHOD:PUBLISH
UID:431988be-9316-43a3-52de-08de9f183112
X-WR-CALNAME:Hostech By Tusıd  İstanbul Uluslararası  Otel, Restoran, Kafe Gastronomi, Unlu Mamuller Ve Teknolojileri Fuarı
X-ITAKVIM-LANGUAGE:tr
X-ITAKVIM-REGION:TR
CALSCALE:GREGORIAN
BEGIN:VEVENT
UID:431988be-9316-43a3-52de-08de9f183112
DTSTAMP:20260420T200816Z
DTSTART:20261110T060000Z
DTEND:20261114T150000Z
TRANSP:TRANSPARENT
STATUS:CONFIRMED
SUMMARY:Hostech By Tusıd  İstanbul Uluslararası  Otel, Restoran, Kafe Gastronomi, Unlu Mamuller Ve Teknolojileri Fuarı
DESCRIPTION:Tüyap Tüm Fuarcılık Yapım Anonim Şirketi tarafından düzenlenen mutfak ve catering donanımı, masaüstü ekipmanları, oda banyo ekipmanları, çamaşırhane ekipmanları, otel tekstili, mobilya ve dekorasyon end, spor-havuz-spor ve rekreasyon endüstrisi, kafe gastronomi, unlu mamuller konulu fuarda görüşmek üzere: 

Web:www.tuyap.com.tr
E-Posta: tuyap@tuyap.com.tr
LOCATION:Tüyap Fuar Ve Kongre Merkezi
END:VEVENT
END:VCALENDAR
