BEGIN:VCALENDAR
VERSION:2.0
PRODID:itakvim.com
METHOD:PUBLISH
UID:43a207e7-198e-485c-51c8-08de9f183112
X-WR-CALNAME:Yaz Öğretimi Ücretlerinin Yatırılması
X-ITAKVIM-LANGUAGE:tr
X-ITAKVIM-REGION:TR
CALSCALE:GREGORIAN
BEGIN:VEVENT
UID:43a207e7-198e-485c-51c8-08de9f183112
DTSTAMP:20260420T200724Z
DTSTART:20260701T110000Z
DTEND:20260702T140000Z
TRANSP:TRANSPARENT
STATUS:CONFIRMED
SUMMARY:Yaz Öğretimi Ücretlerinin Yatırılması
END:VEVENT
END:VCALENDAR
