BEGIN:VCALENDAR
VERSION:2.0
PRODID:itakvim.com
METHOD:PUBLISH
UID:43b24fbe-5f31-435c-4f2e-08de9f183112
X-WR-CALNAME:STS Tıp Tıp Doktorluğu Alanında Yurt Dışı Yükseköğretim Diploma Denkliği İçin Seviye Tespit Sınavı 2026-STS Tıp Doktorluğu 2. Dönem Geç Başvuru Başlangıç
X-ITAKVIM-LANGUAGE:tr
X-ITAKVIM-REGION:TR
CALSCALE:GREGORIAN
BEGIN:VEVENT
UID:43b24fbe-5f31-435c-4f2e-08de9f183112
DTSTAMP:20260420T200538Z
DTSTART:20260723T210000Z
DTEND:20260723T210000Z
TRANSP:TRANSPARENT
STATUS:CONFIRMED
SUMMARY:STS Tıp Tıp Doktorluğu Alanında Yurt Dışı Yükseköğretim Diploma Denkliği İçin Seviye Tespit Sınavı 2026-STS Tıp Doktorluğu 2. Dönem Geç Başvuru Başlangıç
END:VEVENT
END:VCALENDAR
