BEGIN:VCALENDAR
VERSION:2.0
PRODID:itakvim.com
METHOD:PUBLISH
UID:444338e6-3c2f-4b55-5270-08de9f183112
X-WR-CALNAME:Growtech. Antalya 2026, 25.Uluslararası Sera, Tarım Teknolojileri Ve Hayvancılık Ekipmanları Fuarı
X-ITAKVIM-LANGUAGE:tr
X-ITAKVIM-REGION:TR
CALSCALE:GREGORIAN
BEGIN:VEVENT
UID:444338e6-3c2f-4b55-5270-08de9f183112
DTSTAMP:20260420T200816Z
DTSTART:20261124T060000Z
DTEND:20261127T150000Z
TRANSP:TRANSPARENT
STATUS:CONFIRMED
SUMMARY:Growtech. Antalya 2026, 25.Uluslararası Sera, Tarım Teknolojileri Ve Hayvancılık Ekipmanları Fuarı
DESCRIPTION:Informa Fuarcılık Anonim Şirketi tarafından düzenlenen sera, tarımteknolojileri ve hayvancılık ekipmanları konulu fuarda görüşmek üzere: 

Web:www.growtech.com.tr
E-Posta: aynur.turan@informa.com
LOCATION:Anfaş Antalya Fuar Ve Kongre Merkezi
END:VEVENT
END:VCALENDAR
