BEGIN:VCALENDAR
VERSION:2.0
PRODID:itakvim.com
METHOD:PUBLISH
UID:449b5fb2-34b2-46b4-4f85-08de9f183112
X-WR-CALNAME:BKUBTS Tarım ve Orman Bakanlığı Bitki Koruma Ürünleri Bayi ve Toptancılık Yazılı Sınavı 2026-BKUBTS Sonuç
X-ITAKVIM-LANGUAGE:tr
X-ITAKVIM-REGION:TR
CALSCALE:GREGORIAN
BEGIN:VEVENT
UID:449b5fb2-34b2-46b4-4f85-08de9f183112
DTSTAMP:20260420T200538Z
DTSTART:20261110T210000Z
DTEND:20261110T210000Z
TRANSP:TRANSPARENT
STATUS:CONFIRMED
SUMMARY:BKUBTS Tarım ve Orman Bakanlığı Bitki Koruma Ürünleri Bayi ve Toptancılık Yazılı Sınavı 2026-BKUBTS Sonuç
END:VEVENT
END:VCALENDAR
