BEGIN:VCALENDAR
VERSION:2.0
PRODID:itakvim.com
METHOD:PUBLISH
UID:44a2a91f-e168-49a7-4f8d-08de9f183112
X-WR-CALNAME:e-YÖKDİL Elektronik Yükseköğretim Kurumları Yabancı Dil Sınavı (e-YÖKDİL 2026/2 İngilizce-Sağlık Bilimleri) ****** Sonuç
X-ITAKVIM-LANGUAGE:tr
X-ITAKVIM-REGION:TR
CALSCALE:GREGORIAN
BEGIN:VEVENT
UID:44a2a91f-e168-49a7-4f8d-08de9f183112
DTSTAMP:20260420T200538Z
DTSTART:20260516T210000Z
DTEND:20260516T210000Z
TRANSP:TRANSPARENT
STATUS:CONFIRMED
SUMMARY:e-YÖKDİL Elektronik Yükseköğretim Kurumları Yabancı Dil Sınavı (e-YÖKDİL 2026/2 İngilizce-Sağlık Bilimleri) ****** Sonuç
END:VEVENT
END:VCALENDAR
