BEGIN:VCALENDAR
VERSION:2.0
PRODID:itakvim.com
METHOD:PUBLISH
UID:44da380c-bf44-4f4f-4eae-08de9f183112
X-WR-CALNAME:e-YDTS Elektronik Yabancı Dil Olarak Türkçe Sınavı (e-YDTS) Sonuç
X-ITAKVIM-LANGUAGE:tr
X-ITAKVIM-REGION:TR
CALSCALE:GREGORIAN
BEGIN:VEVENT
UID:44da380c-bf44-4f4f-4eae-08de9f183112
DTSTAMP:20260420T200538Z
DTSTART:20260609T210000Z
DTEND:20260609T210000Z
TRANSP:TRANSPARENT
STATUS:CONFIRMED
SUMMARY:e-YDTS Elektronik Yabancı Dil Olarak Türkçe Sınavı (e-YDTS) Sonuç
END:VEVENT
END:VCALENDAR
