BEGIN:VCALENDAR
VERSION:2.0
PRODID:itakvim.com
METHOD:PUBLISH
UID:465b3a13-5458-4235-5321-08de9f183112
X-WR-CALNAME:Yanexpo Ahşap, Metal, Plastik Üretim Yan Sanayileri Teknolojileri Ve Aksesuarları Fuarı
X-ITAKVIM-LANGUAGE:tr
X-ITAKVIM-REGION:TR
CALSCALE:GREGORIAN
BEGIN:VEVENT
UID:465b3a13-5458-4235-5321-08de9f183112
DTSTAMP:20260420T200816Z
DTSTART:20261119T060000Z
DTEND:20261122T150000Z
TRANSP:TRANSPARENT
STATUS:CONFIRMED
SUMMARY:Yanexpo Ahşap, Metal, Plastik Üretim Yan Sanayileri Teknolojileri Ve Aksesuarları Fuarı
DESCRIPTION:Nobel Expo Uluslararası Fuarcılık Anonim Şirketi tarafından düzenlenen ahşap, metal ve plastik üretim yan sanayi konulu fuarda görüşmek üzere: 

Web:www.nobelyanexpo.com
E-Posta: info@nobelexpo.com
LOCATION:Kayseri Osb Fuar Ve Kongre Merkezi
END:VEVENT
END:VCALENDAR
