BEGIN:VCALENDAR
VERSION:2.0
PRODID:itakvim.com
METHOD:PUBLISH
UID:4666fec3-14c1-4e4e-4fd4-08de9f183112
X-WR-CALNAME:KURBAN BAYRAMI (4. Gün)
X-ITAKVIM-LANGUAGE:tr
X-ITAKVIM-REGION:TR
CALSCALE:GREGORIAN
BEGIN:VEVENT
UID:4666fec3-14c1-4e4e-4fd4-08de9f183112
DTSTAMP:20260420T200611Z
DTSTART:20260529T210000Z
DTEND:20260529T210000Z
TRANSP:TRANSPARENT
STATUS:CONFIRMED
SUMMARY:KURBAN BAYRAMI (4. Gün)
END:VEVENT
END:VCALENDAR
